BEGIN:VCALENDAR
VERSION:2.0
PRODID:-//Epicenter - ECPv6.2.6.1//NONSGML v1.0//EN
CALSCALE:GREGORIAN
METHOD:PUBLISH
X-ORIGINAL-URL:https://ruralandproud.org
X-WR-CALDESC:Events for Epicenter
REFRESH-INTERVAL;VALUE=DURATION:PT1H
X-Robots-Tag:noindex
X-PUBLISHED-TTL:PT1H
BEGIN:VTIMEZONE
TZID:UTC
BEGIN:STANDARD
TZOFFSETFROM:+0000
TZOFFSETTO:+0000
TZNAME:UTC
DTSTART:20170101T000000
END:STANDARD
END:VTIMEZONE
BEGIN:VEVENT
DTSTART;VALUE=DATE:20171119
DTEND;VALUE=DATE:20171126
DTSTAMP:20260421T105001
CREATED:20171117T202209Z
LAST-MODIFIED:20171117T202209Z
UID:7484-1511049600-1511654399@ruralandproud.org
SUMMARY:Rural-To-Rural Exchange: Lyons\, NE
DESCRIPTION:Taking advantage of the Thanksgiving holiday break\, AmeriCorps VISTA Jarod Hamm and Epicenter Principal Maria Sykes will be traveling by train to Nebraska to visit The Center for Rural Affairs (Director: Brian Depew) and Jamie Horter (rural artist\, M12 cohort member\, and future Epicenter Frontier). During their week in Lyons (and surroundings)\, Maria and Jarod will engage in a rural-to-rural exchange through a presentation for local leaders\, conversations\, a walking feedback tour of Lyons\, and by gathering lessons learned in from Lyons to bring back to Green River.
URL:https://ruralandproud.org/events/ne/
END:VEVENT
BEGIN:VEVENT
DTSTART;VALUE=DATE:20170929
DTEND;VALUE=DATE:20171030
DTSTAMP:20260421T105001
CREATED:20170705T214221Z
LAST-MODIFIED:20170705T214221Z
UID:7336-1506643200-1509321599@ruralandproud.org
SUMMARY:Frontier Fellowship: Tristan Wheelock
DESCRIPTION:Tristian Wheelock was born in Chicago in the early eighties. His dad was a rock n’ roll dj and his mother owned a vintage clothing store. Wheelock spent his formative years sifting through racks of used Levi’s searching for that infamous big E and listening to the crackly sounds of jazz and blues on 78 rpm records. \nWheelock picked up a camera after college and hit the road to start documenting the world around him. He’s kicked up dust in New Delhi\, chased rally racers through the Himalayas\, Airstreamed his way across America and many other strange adventures. \nCurrently based in Florida\, he spends his free time climbing plastic rocks and slowly dialing in the feng shui of his new home. \n“The most exciting thing for me in regards to my upcoming time in Green River is the chance to\nengage with locals and learn about the community. I love small towns and I love the landscape\nin Utah\, especially around Green River. I’m looking forward to making some good work\, having\nsome enriching conversations\, and taking some long walks in the desert.”
URL:https://ruralandproud.org/events/frontier-fellowship-tristan-wheelock/
END:VEVENT
BEGIN:VEVENT
DTSTART;VALUE=DATE:20170915
DTEND;VALUE=DATE:20171002
DTSTAMP:20260421T105001
CREATED:20170705T213740Z
LAST-MODIFIED:20170705T213740Z
UID:7331-1505433600-1506902399@ruralandproud.org
SUMMARY:Frontier Fellowship: Caitlin Denny
DESCRIPTION:Caitlin Denny’s studies lay within the psychological and occult powers of new media\, notions of evolving and interactive archives and social justice amidst regulated internet and technology platforms. Denny’s current work concentrates on technology as performance\, Western Utopian complications\, and the preservation of such a mysterious medium as “New Media.” \nShe has exhibited internationally and has curated exhibitions in California\, France\, New York and online. She is curator of the online based project JstChillin\, a landmark netart project that garnered serious and critical attention towards internet based art which is now in the archives of Rhizome/The New Museum in New York City. \nHer own work in video and image making has been featured at Sonoma Valley Museum of Art (Sonoma\, CA)\, Little Paper Planes Gallery (San Francisco)\, Reference Gallery (Richmond\, VA)\, Roots and Culture (Chicago\, IL)\, School 33 Art Center (Baltimore\, MD)\, and The Lab (San Francisco\, CA). She’s spoken at the Creator’s Project\, UPLOAD.GIF\, and San Francisco Art Institute. She is recently graduated from UCLA’s Master of Library and Information Science program with a focus on media archives. \n“I’m looking forward to connecting the community of Green River to the layered and enlightening histories that all small American towns have. My work as an archivist isn’t done until I activate the materials with the users who can value them the most.”
URL:https://ruralandproud.org/events/frontier-fellowship-caitlin-denny/
END:VEVENT
BEGIN:VEVENT
DTSTART;VALUE=DATE:20170915
DTEND;VALUE=DATE:20170917
DTSTAMP:20260421T105001
CREATED:20170822T220130Z
LAST-MODIFIED:20170822T220130Z
UID:7351-1505433600-1505606399@ruralandproud.org
SUMMARY:Melon Days
DESCRIPTION:Melon Days is an annual festival held in September for over 100 years in the town of Green River\, Utah\, home of delicious watermelons\, cantaloupe\, honeydew\, and more. Look for Epicenter amongst the vendors in the park where we’ll be selling Green River flags and hosting a story-sharing (audio and visual) booth!
URL:https://ruralandproud.org/events/melon-days/
END:VEVENT
BEGIN:VEVENT
DTSTART;VALUE=DATE:20170717
DTEND;VALUE=DATE:20170819
DTSTAMP:20260421T105001
CREATED:20170705T212835Z
LAST-MODIFIED:20170705T212835Z
UID:7326-1500249600-1503100799@ruralandproud.org
SUMMARY:Neskaupstaður Residency
DESCRIPTION:Sykes has been invited to reside in Neskaupstaður (pop. 1400)\, Iceland\, for one month as a designer-in-residence working alongside local residents\, visiting designers\, and regional Austurland partners. She sees this residency as the continuation of a long-term relationship and a continued exchange amongst rural practitioners and residents. \nMany rural communities in the American West and East Iceland have struggled for decades with population decline\, mitigating destination development\, and an uncertain economic future (often dependent on corporations). Though these towns share many challenges\, all are rich in culture\, untapped-potential\, natural resources\, mythology\, history\, and all the reasons we love rural places. Epicenter Principal Maria Sykes is honored to be invited to continue her ongoing research and to better connect Green River and rural towns in Austurland (East Iceland). \nDuring this short residency in Neskaupstaður\, Sykes will share both Epicenter’s and her personal resources\, lessons learned\, best practices\, strategic planning advice\, etc. with the town’s leaders\, youth\, consultants\, and other visiting artists/designers through a series of conversations\, community meetings\, and intimate workshops. Sykes will document East Iceland’s rural communities and initiatives for Epicenter’s internal use. Similar to her first visit to Iceland\, employees and local Epicenter partners will be invited to a presentation of her time in Iceland upon her return. Ultimately\, we hope to host rural Icelanders in Green River in the near future!
URL:https://ruralandproud.org/events/neskaupstadur-art-attack/
END:VEVENT
BEGIN:VEVENT
DTSTART;VALUE=DATE:20170606
DTEND;VALUE=DATE:20170609
DTSTAMP:20260421T105001
CREATED:20170526T180539Z
LAST-MODIFIED:20170526T180539Z
UID:7284-1496707200-1496966399@ruralandproud.org
SUMMARY:Rural Arts and Culture Summit
DESCRIPTION:The 2017 Rural Arts and Culture Summit will take place Tuesday\, June 6\, through Thursday\, June 8\, at the University of Minnesota\, Morris. Organized by Springboard for the Arts and the Center for Small Towns\, the Summit gathers rural artists\, arts organizations and community leaders to highlight arts-based strategies to rural community and economic development. \nJack will be on a panel leading a breakout session called: Engaging Arts and Culture in Rural Housing Initiatives.
URL:https://ruralandproud.org/events/rural-arts-and-culture-summit/
END:VEVENT
BEGIN:VEVENT
DTSTART;VALUE=DATE:20170604
DTEND;VALUE=DATE:20170607
DTSTAMP:20260421T105001
CREATED:20170526T172504Z
LAST-MODIFIED:20170526T172504Z
UID:7282-1496534400-1496793599@ruralandproud.org
SUMMARY:Piney Wood Atlas Visit Green River
DESCRIPTION:Piney Wood Atlas is a collaboration between Alicia Toldi and Carolina Porras. We are two artists visiting and cataloguing small and emerging artist residencies across the country. Our project is an ongoing process that will continually contribute to a multimedia tour log of our travels and findings\, and help connect the dots between artists and artist residencies.
URL:https://ruralandproud.org/events/piney-wood-atlas-visit-green-river/
END:VEVENT
BEGIN:VEVENT
DTSTART;VALUE=DATE:20170520
DTEND;VALUE=DATE:20170530
DTSTAMP:20260421T105001
CREATED:20170519T224952Z
LAST-MODIFIED:20170519T224952Z
UID:7253-1495238400-1496102399@ruralandproud.org
SUMMARY:Iowa State University Student Research Visit
DESCRIPTION:
URL:https://ruralandproud.org/events/iowa-state-university-student-research-visit/
END:VEVENT
BEGIN:VEVENT
DTSTART;VALUE=DATE:20170502
DTEND;VALUE=DATE:20170602
DTSTAMP:20260421T105001
CREATED:20170526T161935Z
LAST-MODIFIED:20170526T161935Z
UID:7280-1493683200-1496361599@ruralandproud.org
SUMMARY:Frontier Fellowship: Erika Lynne Hanson
DESCRIPTION:Erika Lynne Hanson creates weavings\, videos\, and installations that connect diverse materials\, histories\, and places. Running through her work is a concern with the idea of landscape; specifically how landscape exists\, by definition\, as a view or representation—a space or scene that can never be reached physically. Hanson received her MFA from California College of the Arts\, and holds a BFA in Fiber from The Kansas City Art Institute. Her work has been exhibited in various locations including Los Angeles\, Kansas City\, San Francisco\, New York\, and Houston. Hanson is a Charlotte Street Foundation Visual Art fellow and has been artist in residence at Real Time and Space in Oakland CA\, The Icelandic Textile Center in Blonduos\, IS\, and The Wrangell Mountain Center in McCarthy\, AK. In 2012 she co-founded 1522 Saint Louis\, an experimental project space in Kansas City. Hanson is currently Assistant Professor of Fibers/Socially Engaged Practices at Arizona State University.
URL:https://ruralandproud.org/events/frontier-fellowship-erika-lynne-hanson/
END:VEVENT
END:VCALENDAR